BEGIN:VCALENDAR
VERSION:2.0
PRODID:-//Kirchenmusik Mariannhill Würzburg - ECPv6.15.20//NONSGML v1.0//EN
CALSCALE:GREGORIAN
METHOD:PUBLISH
X-ORIGINAL-URL:https://kirchenmusik-mariannhill.de
X-WR-CALDESC:Veranstaltungen für Kirchenmusik Mariannhill Würzburg
REFRESH-INTERVAL;VALUE=DURATION:PT1H
X-Robots-Tag:noindex
X-PUBLISHED-TTL:PT1H
BEGIN:VTIMEZONE
TZID:Europe/Berlin
BEGIN:DAYLIGHT
TZOFFSETFROM:+0100
TZOFFSETTO:+0200
TZNAME:CEST
DTSTART:20250330T010000
END:DAYLIGHT
BEGIN:STANDARD
TZOFFSETFROM:+0200
TZOFFSETTO:+0100
TZNAME:CET
DTSTART:20251026T010000
END:STANDARD
BEGIN:DAYLIGHT
TZOFFSETFROM:+0100
TZOFFSETTO:+0200
TZNAME:CEST
DTSTART:20260329T010000
END:DAYLIGHT
BEGIN:STANDARD
TZOFFSETFROM:+0200
TZOFFSETTO:+0100
TZNAME:CET
DTSTART:20261025T010000
END:STANDARD
BEGIN:DAYLIGHT
TZOFFSETFROM:+0100
TZOFFSETTO:+0200
TZNAME:CEST
DTSTART:20270328T010000
END:DAYLIGHT
BEGIN:STANDARD
TZOFFSETFROM:+0200
TZOFFSETTO:+0100
TZNAME:CET
DTSTART:20271031T010000
END:STANDARD
END:VTIMEZONE
BEGIN:VEVENT
DTSTART;TZID=Europe/Berlin:20260426T180000
DTEND;TZID=Europe/Berlin:20260426T190000
DTSTAMP:20260419T170507
CREATED:20260408T070734Z
LAST-MODIFIED:20260408T070843Z
UID:918-1777226400-1777230000@kirchenmusik-mariannhill.de
SUMMARY:Benefizkonzert
DESCRIPTION:mit dem Mariannhill Chamber Orchestraund dem Kinder- und Jugendorchester MiniMCO \n\n\n\n\n\nIn diesem Jahr spielt unser Mariannhill Chamber Orchestra ein Benefizkonzert für die Bahnhofsmission Würzburg.  \n\n\n\nMittelpunkt des Programms ist das berühmte 3. Brandenburgische Konzert G-Dur von Johann Sebastian Bach. Außerdem:Wolfgang Amadeus Mozart / Kirchensonate C-Dur KV 328Henry Purcell / Rondeau aus Abdelazer (MiniMCO)Georg Friedrich Händel / The Arrival of the Queen of Sheba (MiniMCO)Georg Mathias Monn / Cellokonzert (1. Satz)Mieczysław Karłowicz / Final \n\n\n\n\n\n\n\nSolistinnen:Helena Bieber\, Roswitha Pax\, Luisa Pax\, Magdalena Siller\, Johanna Siller (Violine)Barbara Bieber\, Magda Kozakiewicz\, Hannah Kübber (Viola)Felicia Buttmann\, Angelika Kuhmann\, Elisabeth Renner (Cello)Barbara Giouseljannis\, Eleonore Perneker (Gesang)Gesamtleitung und Orgel:Rudolf Müller \n\n\n\nDas Mariannhill Chamber Orchestra wurde 2014 gegründet. Zu den Mitgliedern gehören ProfimusikerInnen\, SchülerInnen und MusikliebhaberInnen. Konzertmeisterin ist Roswitha Pax\, die Leitung hat der Mariannhiller Kirchenmusiker und Konzertorganist Rudolf Müller. 2019 kam das Kinder- und Jugendensemble MiniMCO hinzu\, welches speziell den musikalischen Nachwuchs bis zu einem Alter von etwa 14 Jahren fördert. Im Advent 2023 gab das MiniMCO sein erstes „eigenes“ Konzert in der St. Nikolauskapelle in der Sanderau. \n\n\n\nEintritt frei – Spenden für die Bahnhofsmission Würzburg willkommen!
URL:https://kirchenmusik-mariannhill.de/event/mco2026
LOCATION:Klosterkirche Mariannhill\, Mariannhillstraße 1\, Würzburg\, Bayern\, 97074\, Deutschland
END:VEVENT
END:VCALENDAR